BEGIN:VCALENDAR
VERSION:2.0
PRODID:-//eventon.com NONSGML v1.0//EN
CALSCALE:GREGORIAN
METHOD:PUBLISH
BEGIN:VEVENT
UID:69ecf3434066e
DTSTAMP:20260425T170051Z
DTSTART:20221029T193000Z
DTEND:20221029T220000Z
LOCATION:Recinto Cultural La Quinta
SUMMARY:Agáldar\,  Cultura y Tradición
DESCRIPTION:Banda de Música de la Real Ciudad de Gáldar AM Facaracas AF F
 arallón de Tábata ACF Surco y Arado\nhttps://www.galdar.es/events/agaldar
 -cultura-y-tradicion/
URL:https://www.galdar.es/events/agaldar-cultura-y-tradicion/
END:VEVENT
END:VCALENDAR